BEGIN:VCALENDAR
PRODID: -//CFLIB.ORG//iCalUS()//EN
VERSION:2.0
METHOD:REQUEST
BEGIN:VTIMEZONE
BEGIN:STANDARD
DTSTART:20061101T020000
RRULE:FREQ=YEARLY;INTERVAL=1;BYDAY=1SU;BYMONTH=11
TZOFFSETFROM:-0400
TZOFFSETTO:-0500
TZNAME:Standard Time
END:STANDARD
BEGIN:DAYLIGHT
DTSTART:20060301T020000
RRULE:FREQ=YEARLY;INTERVAL=1;BYDAY=2SU;BYMONTH=3
TZOFFSETFROM:-0500
TZOFFSETTO:-0400
TZNAME:Daylight Savings Time
END:DAYLIGHT
END:VTIMEZONE
BEGIN:VEVENT
UID:1551243913725.CFLIB.ORG
ORGANIZER;CN=:MAILTO:
DTSTAMP:20190227T160513
DTSTART;TZID=Eastern Time:20190302T120000
DTEND;TZID=Eastern Time:20190302T123000
SUMMARY:MORRISON KLEEMAN ELTHAM - OFI/OPEN HOME - 72 Resolution Circuit, DOREEN, 3754
LOCATION:72 Resolution Circuit, DOREEN, 3754
DESCRIPTION:OFI/OPEN HOME - 72 Resolution Circuit, DOREEN, 3754\n\nSaturday 12:00PM-12:30PM\n\nClick the link for full listing information: http://morrisonkleeman.com.au?/property/3336830
PRIORITY:1
TRANSP:OPAQUE
CLASS:PUBLIC
BEGIN:VALARM
TRIGGER:-PT30M
ACTION:DISPLAY
DESCRIPTION:Reminder
END:VALARM
END:VEVENT
END:VCALENDAR 